Workbook

Sheet Staffelzettel 3x800m
A1: =YEAR(TODAY()) -> 2026 | B1: Staffelaufstellung | C1: 3 x 800m Staffel | E1: =$A$1 -> 2026 | F1: Staffelaufstellung | G1: =$C$1 -> 3 x 800m Staffel | I1: =$A$1 -> 2026 | J1: Staffelaufstellung | K1: =$C$1 -> 3 x 800m Staffel | M1: =$A$1 -> 2026 | N1: Staffelaufstellung | O1: =$C$1 -> 3 x 800m Staffel | Q1: =$A$1 -> 2026 | R1: Staffelaufstellung | S1: =$C$1 -> 3 x 800m Staffel | U1: =$A$1 -> 2026 | V1: Staffelaufstellung | W1: =$C$1 -> 3 x 800m Staffel | Z1: hier ggf. ändern.
B2: bitte nur hier die Schulkennung eintragen | Z2: Altersklassen | AA2: =YEAR(TODAY())-14&" u. jünger" -> 2012 u. jünger
A3: Schulkennung: | E3: Schulkennung: | F3: =IF($B$3="","",$B$3) | I3: Schulkennung: | J3: =IF($B$3="","",$B$3) | M3: Schulkennung: | N3: =IF($B$3="","",$B$3) | Q3: Schulkennung: | R3: =IF($B$3="","",$B$3) | U3: Schulkennung: | V3: =IF($B$3="","",$B$3) | AA3: =YEAR(TODAY())-16&" u. jünger" -> 2010 u. jünger
A4: Schule : | B4: =IF(B3="","",VLOOKUP(B3,Schulliste!A2:B76,2,FALSE)) | D4: Team 1 | E4: Schule : | F4: =$B$4 | H4: Team 1 | I4: Schule : | J4: =$B$4 | L4: Team 1 | M4: Schule : | N4: =$B$4 | P4: Team 1 | Q4: Schule : | R4: =$B$4 | T4: Team 1 | U4: Schule : | V4: =$B$4 | X4: Team 1 | AA4: =YEAR(TODAY())-18&" u. jünger" -> 2008 u. jünger
A5: Betreuer : | E5: Betreuer : | I5: Betreuer : | M5: Betreuer : | Q5: Betreuer : | U5: Betreuer :
C8: Altersklasse : | G8: Altersklasse : | K8: Altersklasse : | O8: Altersklasse : | S8: Altersklasse : | W8: Altersklasse :
B9: Mädchen | C9: =AA2 -> 2012 u. jünger | F9: Jungen | G9: =AA2 -> 2012 u. jünger | J9: Mädchen | K9: =AA3 -> 2010 u. jünger | N9: Jungen | O9: =AA3 -> 2010 u. jünger | R9: Mädchen | S9: =AA4 -> 2008 u. jünger | V9: Jungen | W9: =AA4 -> 2008 u. jünger
B11: Vorname | C11: Name | D11: Geburtsjahr | F11: Vorname | G11: Name | H11: Geburtsjahr | J11: Vorname | K11: Name | L11: Geburtsjahr | N11: Vorname | O11: Name | P11: Geburtsjahr | R11: Vorname | S11: Name | T11: Geburtsjahr | V11: Vorname | W11: Name | X11: Geburtsjahr
A12: 1 | E12: 1 | I12: 1 | M12: 1 | Q12: 1 | U12: 1
A13: 2 | E13: 2 | I13: 2 | M13: 1 | Q13: 2 | U13: 1
A14: 3 | E14: 3 | I14: 3 | M14: 1 | Q14: 3 | U14: 1
A19: =$A$1 -> 2026 | B19: Staffelaufstellung | C19: =$C$1 -> 3 x 800m Staffel | E19: =$A$1 -> 2026 | F19: Staffelaufstellung | G19: =$C$1 -> 3 x 800m Staffel | I19: =$A$1 -> 2026 | J19: Staffelaufstellung | K19: =$C$1 -> 3 x 800m Staffel | M19: =$A$1 -> 2026 | N19: Staffelaufstellung | O19: =$C$1 -> 3 x 800m Staffel | Q19: =$A$1 -> 2026 | R19: Staffelaufstellung | S19: =$C$1 -> 3 x 800m Staffel | U19: =$A$1 -> 2026 | V19: Staffelaufstellung | W19: =$C$1 -> 3 x 800m Staffel
A21: Schulkennung: | B21: =IF($B$3="","",$B$3) | E21: Schulkennung: | F21: =IF($B$3="","",$B$3) | I21: Schulkennung: | J21: =IF($B$3="","",$B$3) | M21: Schulkennung: | N21: =IF($B$3="","",$B$3) | Q21: Schulkennung: | R21: =IF($B$3="","",$B$3) | U21: Schulkennung: | V21: =IF($B$3="","",$B$3)
A22: Schule : | B22: =$B$4 | D22: Team 2 | E22: Schule : | F22: =$B$4 | H22: Team 2 | I22: Schule : | J22: =$B$4 | L22: Team 2 | M22: Schule : | N22: =$B$4 | P22: Team 2 | Q22: Schule : | R22: =$B$4 | T22: Team 2 | U22: Schule : | V22: =$B$4 | X22: Team 2
A23: Betreuer : | B23: =IF(B$5="","",B$5) | E23: Betreuer : | F23: =IF($F$5="","",$F$5) | I23: Betreuer : | J23: =IF($J$5="","",$J$5) | M23: Betreuer : | N23: =IF($N$5="","",$N$5) | Q23: Betreuer : | R23: =IF($R$5="","",$R$5) | U23: Betreuer : | V23: =IF($V$5="","",$V$5)
C26: Altersklasse : | G26: Altersklasse : | K26: Altersklasse : | O26: Altersklasse : | S26: Altersklasse : | W26: Altersklasse :
B27: Mädchen | C27: =AA2 -> 2012 u. jünger | F27: Jungen | G27: =AA2 -> 2012 u. jünger | J27: Mädchen | K27: =AA3 -> 2010 u. jünger | N27: Jungen | O27: =AA3 -> 2010 u. jünger | R27: Mädchen | S27: =AA4 -> 2008 u. jünger | V27: Jungen | W27: =AA4 -> 2008 u. jünger
B29: Vorname | C29: Name | D29: Geburtsjahr | F29: Vorname | G29: Name | H29: Geburtsjahr | J29: Vorname | K29: Name | L29: Geburtsjahr | N29: Vorname | O29: Name | P29: Geburtsjahr | R29: Vorname | S29: Name | T29: Geburtsjahr | V29: Vorname | W29: Name | X29: Geburtsjahr
A30: 1 | E30: 1 | I30: 1 | M30: 1 | Q30: 1 | U30: 1
A31: 2 | E31: 2 | I31: 2 | M31: 2 | Q31: 2 | U31: 2
A32: 3 | E32: 3 | I32: 3 | M32: 3 | Q32: 3 | U32: 3
A37: =$A$1 -> 2026 | B37: Staffelaufstellung | C37: =$C$1 -> 3 x 800m Staffel | E37: =$A$1 -> 2026 | F37: Staffelaufstellung | G37: =$C$1 -> 3 x 800m Staffel | I37: =$A$1 -> 2026 | J37: Staffelaufstellung | K37: =$C$1 -> 3 x 800m Staffel | M37: =$A$1 -> 2026 | N37: Staffelaufstellung | O37: =$C$1 -> 3 x 800m Staffel | Q37: =$A$1 -> 2026 | R37: Staffelaufstellung | S37: =$C$1 -> 3 x 800m Staffel | U37: =$A$1 -> 2026 | V37: Staffelaufstellung | W37: =$C$1 -> 3 x 800m Staffel
A39: Schulkennung: | B39: =IF($B$3="","",$B$3) | E39: Schulkennung: | F39: =IF($B$3="","",$B$3) | I39: Schulkennung: | J39: =IF($B$3="","",$B$3) | M39: Schulkennung: | N39: =IF($B$3="","",$B$3) | Q39: Schulkennung: | R39: =IF($B$3="","",$B$3) | U39: Schulkennung: | V39: =IF($B$3="","",$B$3)
A40: Schule : | B40: =$B$4 | D40: Team 3 | E40: Schule : | F40: =$B$4 | H40: Team 3 | I40: Schule : | J40: =$B$4 | L40: Team 3 | M40: Schule : | N40: =$B$4 | P40: Team 3 | Q40: Schule : | R40: =$B$4 | T40: Team 3 | U40: Schule : | V40: =$B$4 | X40: Team 3
A41: Betreuer : | B41: =IF(B$5="","",B$5) | E41: Betreuer : | F41: =IF($F$5="","",$F$5) | I41: Betreuer : | J41: =IF($J$5="","",$J$5) | M41: Betreuer : | N41: =IF($N$5="","",$N$5) | Q41: Betreuer : | R41: =IF($R$5="","",$R$5) | U41: Betreuer : | V41: =IF($V$5="","",$V$5)
C44: Altersklasse : | G44: Altersklasse : | K44: Altersklasse : | O44: Altersklasse : | S44: Altersklasse : | W44: Altersklasse :
B45: Mädchen | C45: =AA2 -> 2012 u. jünger | F45: Jungen | G45: =AA2 -> 2012 u. jünger | J45: Mädchen | K45: =AA3 -> 2010 u. jünger | N45: Jungen | O45: =AA3 -> 2010 u. jünger | R45: Mädchen | S45: =AA4 -> 2008 u. jünger | V45: Jungen | W45: =AA4 -> 2008 u. jünger
B47: Vorname | C47: Name | D47: Geburtsjahr | F47: Vorname | G47: Name | H47: Geburtsjahr | J47: Vorname | K47: Name | L47: Geburtsjahr | N47: Vorname | O47: Name | P47: Geburtsjahr | R47: Vorname | S47: Name | T47: Geburtsjahr | V47: Vorname | W47: Name | X47: Geburtsjahr
A48: 1 | E48: 1 | I48: 1 | M48: 1 | Q48: 1 | U48: 1
A49: 2 | E49: 2 | I49: 2 | M49: 2 | Q49: 2 | U49: 2
A50: 3 | E50: 3 | I50: 3 | M50: 3 | Q50: 3 | U50: 3

Sheet Staffelzettel 4x100m
A1: =YEAR(TODAY()) -> 2026 | B1: Staffelaufstellung | C1: 4 x 100m Staffel | E1: =$A$1 -> 2026 | F1: Staffelaufstellung | G1: =$C$1 -> 4 x 100m Staffel | I1: =$A$1 -> 2026 | J1: Staffelaufstellung | K1: =$C$1 -> 4 x 100m Staffel | M1: =$A$1 -> 2026 | N1: Staffelaufstellung | O1: =$C$1 -> 4 x 100m Staffel | Q1: =$A$1 -> 2026 | R1: Staffelaufstellung | S1: =$C$1 -> 4 x 100m Staffel | U1: =$A$1 -> 2026 | V1: Staffelaufstellung | W1: =$C$1 -> 4 x 100m Staffel | Z1: hier ggf. ändern
B2: bitte nur hier die Schulkennung eintragen | Z2: Altersklassen | AA2: =YEAR(TODAY())-14&" u. jünger" -> 2012 u. jünger
A3: Schulkennung: | E3: Schulkennung: | F3: =IF($B$3="","",$B$3) | I3: Schulkennung: | J3: =IF($B$3="","",$B$3) | M3: Schulkennung: | N3: =IF($B$3="","",$B$3) | Q3: Schulkennung: | R3: =IF($B$3="","",$B$3) | U3: Schulkennung: | V3: =IF($B$3="","",$B$3) | AA3: =YEAR(TODAY())-16&" u. jünger" -> 2010 u. jünger
A4: Schule : | B4: =IF(B3="","",VLOOKUP(B3,Schulliste!A2:B76,2,FALSE)) | D4: Team 1 | E4: Schule : | F4: =$B$4 | H4: Team 1 | I4: Schule : | J4: =$B$4 | L4: Team 1 | M4: Schule : | N4: =$B$4 | P4: Team 1 | Q4: Schule : | R4: =$B$4 | T4: Team 1 | U4: Schule : | V4: =$B$4 | X4: Team 1 | AA4: =YEAR(TODAY())-18&" u. jünger" -> 2008 u. jünger
A5: Betreuer : | E5: Betreuer : | I5: Betreuer : | M5: Betreuer : | Q5: Betreuer : | U5: Betreuer :
C8: Altersklasse : | G8: Altersklasse : | K8: Altersklasse : | O8: Altersklasse : | S8: Altersklasse : | W8: Altersklasse :
B9: Mädchen | C9: =AA2 -> 2012 u. jünger | D9: WK3 | F9: Jungen | G9: =AA2 -> 2012 u. jünger | H9: WK3 | J9: Mädchen | K9: =AA3 -> 2010 u. jünger | L9: WK2 | N9: Jungen | O9: =AA3 -> 2010 u. jünger | P9: WK2 | R9: Mädchen | S9: =AA4 -> 2008 u. jünger | T9: WK1 | V9: Jungen | W9: =AA4 -> 2008 u. jünger | X9: WK1
B11: Vorname | C11: Name | D11: Geburtsjahr | F11: Vorname | G11: Name | H11: Geburtsjahr | J11: Vorname | K11: Name | L11: Geburtsjahr | N11: Vorname | O11: Name | P11: Geburtsjahr | R11: Vorname | S11: Name | T11: Geburtsjahr | V11: Vorname | W11: Name | X11: Geburtsjahr
A12: 1 | E12: 1 | I12: 1 | M12: 1 | Q12: 1 | U12: 1
A13: 2 | E13: 2 | I13: 2 | M13: 1 | Q13: 2 | U13: 1
A14: 3 | E14: 3 | I14: 3 | M14: 1 | Q14: 3 | U14: 1
A15: 4 | E15: 4 | I15: 4 | M15: 1 | Q15: 4 | U15: 1
A20: =$A$1 -> 2026 | B20: Staffelaufstellung | C20: =$C$1 -> 4 x 100m Staffel | E20: =$A$1 -> 2026 | F20: Staffelaufstellung | G20: =$C$1 -> 4 x 100m Staffel | I20: =$A$1 -> 2026 | J20: Staffelaufstellung | K20: =$C$1 -> 4 x 100m Staffel | M20: =$A$1 -> 2026 | N20: Staffelaufstellung | O20: =$C$1 -> 4 x 100m Staffel | Q20: =$A$1 -> 2026 | R20: Staffelaufstellung | S20: =$C$1 -> 4 x 100m Staffel | U20: =$A$1 -> 2026 | V20: Staffelaufstellung | W20: =$C$1 -> 4 x 100m Staffel
A22: Schulkennung: | B22: =IF($B$3="","",$B$3) | E22: Schulkennung: | F22: =F3 | I22: Schulkennung: | J22: =J3 | M22: Schulkennung: | N22: =N3 | Q22: Schulkennung: | R22: =R3 | U22: Schulkennung: | V22: =V3
A23: Schule : | B23: =$B$4 | D23: Team 2 | E23: Schule : | F23: =$B$4 | H23: Team 2 | I23: Schule : | J23: =$B$4 | L23: Team 2 | M23: Schule : | N23: =$B$4 | P23: Team 2 | Q23: Schule : | R23: =$B$4 | T23: Team 2 | U23: Schule : | V23: =$B$4 | X23: Team 2
A24: Betreuer : | B24: =IF(B$5="","",B$5) | E24: Betreuer : | F24: =IF($F$5="","",$F$5) | I24: Betreuer : | J24: =IF($J$5="","",$J$5) | M24: Betreuer : | N24: =IF($N$5="","",$N$5) | Q24: Betreuer : | R24: =IF($R$5="","",$R$5) | U24: Betreuer : | V24: =IF($V$5="","",$V$5)
C27: Altersklasse : | G27: Altersklasse : | K27: Altersklasse : | O27: Altersklasse : | S27: Altersklasse : | W27: Altersklasse :
B28: Mädchen | C28: =AA2 -> 2012 u. jünger | D28: WK3 | F28: Jungen | G28: =AA2 -> 2012 u. jünger | H28: WK3 | J28: Mädchen | K28: =AA3 -> 2010 u. jünger | L28: WK2 | N28: Jungen | O28: =AA3 -> 2010 u. jünger | P28: WK2 | R28: Mädchen | S28: =AA4 -> 2008 u. jünger | T28: WK1 | V28: Jungen | W28: =AA4 -> 2008 u. jünger | X28: WK1
B30: Vorname | C30: Name | D30: Geburtsjahr | F30: Vorname | G30: Name | H30: Geburtsjahr | J30: Vorname | K30: Name | L30: Geburtsjahr | N30: Vorname | O30: Name | P30: Geburtsjahr | R30: Vorname | S30: Name | T30: Geburtsjahr | V30: Vorname | W30: Name | X30: Geburtsjahr
A31: 1 | E31: 1 | I31: 1 | M31: 1 | Q31: 1 | U31: 1
A32: 2 | E32: 2 | I32: 2 | M32: 2 | Q32: 2 | U32: 2
A33: 3 | E33: 3 | I33: 3 | M33: 3 | Q33: 3 | U33: 3
A34: 4 | E34: 4 | I34: 4 | M34: 4 | Q34: 4 | U34: 4
A39: =$A$1 -> 2026 | B39: Staffelaufstellung | C39: =$C$1 -> 4 x 100m Staffel | E39: =$A$1 -> 2026 | F39: Staffelaufstellung | G39: =$C$1 -> 4 x 100m Staffel | I39: =$A$1 -> 2026 | J39: Staffelaufstellung | K39: =$C$1 -> 4 x 100m Staffel | M39: =$A$1 -> 2026 | N39: Staffelaufstellung | O39: =$C$1 -> 4 x 100m Staffel | Q39: =$A$1 -> 2026 | R39: Staffelaufstellung | S39: =$C$1 -> 4 x 100m Staffel | U39: =$A$1 -> 2026 | V39: Staffelaufstellung | W39: =$C$1 -> 4 x 100m Staffel
A41: Schulkennung: | B41: =IF($B$3="","",$B$3) | E41: Schulkennung: | F41: =F3 | I41: Schulkennung: | J41: =J3 | M41: Schulkennung: | N41: =N3 | Q41: Schulkennung: | R41: =R3 | U41: Schulkennung: | V41: =V3
A42: Schule : | B42: =$B$4 | D42: Team 3 | E42: Schule : | F42: =$B$4 | H42: Team 3 | I42: Schule : | J42: =$B$4 | L42: Team 3 | M42: Schule : | N42: =$B$4 | P42: Team 3 | Q42: Schule : | R42: =$B$4 | T42: Team 3 | U42: Schule : | V42: =$B$4 | X42: Team 3
A43: Betreuer : | B43: =IF(B$5="","",B$5) | E43: Betreuer : | F43: =IF($F$5="","",$F$5) | I43: Betreuer : | J43: =IF($J$5="","",$J$5) | M43: Betreuer : | N43: =IF($N$5="","",$N$5) | Q43: Betreuer : | R43: =IF($R$5="","",$R$5) | U43: Betreuer : | V43: =IF($V$5="","",$V$5)
C46: Altersklasse : | G46: Altersklasse : | K46: Altersklasse : | O46: Altersklasse : | S46: Altersklasse : | W46: Altersklasse :
B47: Mädchen | C47: =AA2 -> 2012 u. jünger | D47: WK3 | F47: Jungen | G47: =AA2 -> 2012 u. jünger | H47: WK3 | J47: Mädchen | K47: =AA3 -> 2010 u. jünger | L47: WK2 | N47: Jungen | O47: =AA3 -> 2010 u. jünger | P47: WK2 | R47: Mädchen | S47: =AA4 -> 2008 u. jünger | T47: WK1 | V47: Jungen | W47: =AA4 -> 2008 u. jünger | X47: WK1
B49: Vorname | C49: Name | D49: Geburtsjahr | F49: Vorname | G49: Name | H49: Geburtsjahr | J49: Vorname | K49: Name | L49: Geburtsjahr | N49: Vorname | O49: Name | P49: Geburtsjahr | R49: Vorname | S49: Name | T49: Geburtsjahr | V49: Vorname | W49: Name | X49: Geburtsjahr
A50: 1 | E50: 1 | I50: 1 | M50: 1 | Q50: 1 | U50: 1
A51: 2 | E51: 2 | I51: 2 | M51: 2 | Q51: 2 | U51: 2
A52: 3 | E52: 3 | I52: 3 | M52: 3 | Q52: 3 | U52: 3
A53: 4 | E53: 4 | I53: 4 | M53: 4 | Q53: 4 | U53: 4

Sheet Schulliste
A1: Kennung | B1: Schulname
A2: 08A10 | B2: VHS Neukölln - Otto-Suhr / Tannenhofschule
A3: 08B01 | B3: Annedore-Leber-Oberschule
A4: 08B02 | B4: Lise-Meitner-Schule
A5: 08B04 | B5: OSZ Informations- und Medizintechnik
A6: 08B05 | B6: Carl-Legien-Schule
A7: 08G01 | B7: Rixdorfer Schule
A8: 08G02 | B8: Theodor-Storm-Schule
A9: 08G03 | B9: Hans-Fallada-Schule
A10: 08G05 | B10: Elbe-Schule
A11: 08G06 | B11: Karl-Weise-Schule
A12: 08G07 | B12: Hermann-Boddin-Schule
... A76: 13K99 | B76: Fantasia-Oberschule

Sheet Transskription
A1: Hier dürfen keine Eintragungen vorgenommen werden! | J1: Hier dürfen keine Eintragungen vorgenommen werden.
A2: Schule: | B2: =IF('Staffelzettel 4x100m'!B4:C4<>"",'Staffelzettel 4x100m'!B4:C4,'Staffelzettel 3x800m'!B4:C4)
A11: Disziplin | B11: Ju / Mä | C11: Schule | D11: Jahrgang | E11: Team | F11: L1 | G11: L2 | H11: L3 | I11: L4
A12: 4x100m | B12: ='Staffelzettel 4x100m'!$B$9 -> Mädchen | C12: =$B$2 | D12: =IF('Staffelzettel 4x100m'!$C$9="","",'Staffelzettel 4x100m'!$C$9) -> 2012 u. jünger | E12: =IF(F12="","",'Staffelzettel 4x100m'!D$4) | F12: =IF('Staffelzettel 4x100m'!$C12="","",'Staffelzettel 4x100m'!$C12) | G12: =IF('Staffelzettel 4x100m'!$C13="","",'Staffelzettel 4x100m'!$C13) | H12: =IF('Staffelzettel 4x100m'!$C14="","",'Staffelzettel 4x100m'!$C14) | I12: =IF('Staffelzettel 4x100m'!$C15="","",'Staffelzettel 4x100m'!$C15)
A14: 4x100m | B14: ='Staffelzettel 4x100m'!$B$28 -> Mädchen | C14: =$B$2 | D14: =IF('Staffelzettel 4x100m'!$C$28="","",'Staffelzettel 4x100m'!$C$28) -> 2012 u. jünger | E14: =IF(F14="","",'Staffelzettel 4x100m'!D$23) | F14: =IF('Staffelzettel 4x100m'!$C31="","",'Staffelzettel 4x100m'!$C31) | G14: =IF('Staffelzettel 4x100m'!$C32="","",'Staffelzettel 4x100m'!$C32) | H14: =IF('Staffelzettel 4x100m'!$C33="","",'Staffelzettel 4x100m'!$C33) | I14: =IF('Staffelzettel 4x100m'!$C34="","",'Staffelzettel 4x100m'!$C34)
A16: 4x100m | B16: ='Staffelzettel 4x100m'!$B47 -> Mädchen | C16: =$B$2 | D16: =IF('Staffelzettel 4x100m'!$C$28="","",'Staffelzettel 4x100m'!$C$28) -> 2012 u. jünger | E16: =IF(F16="","",'Staffelzettel 4x100m'!D$42) | F16: =IF('Staffelzettel 4x100m'!$C50="","",'Staffelzettel 4x100m'!$C50) | G16: =IF('Staffelzettel 4x100m'!$C51="","",'Staffelzettel 4x100m'!$C51) | H16: =IF('Staffelzettel 4x100m'!$C52="","",'Staffelzettel 4x100m'!$C52) | I16: =IF('Staffelzettel 4x100m'!$C53="","",'Staffelzettel 4x100m'!$C53)
A18: 4x100m | B18: ='Staffelzettel 4x100m'!$F$9 -> Jungen | C18: =$B$2 | D18: =IF('Staffelzettel 4x100m'!$G$9="","",'Staffelzettel 4x100m'!$G$9) -> 2012 u. jünger | E18: =IF(F18="","",'Staffelzettel 4x100m'!H$4) | F18: =IF('Staffelzettel 4x100m'!$G12="","",'Staffelzettel 4x100m'!$G12) | G18: =IF('Staffelzettel 4x100m'!$G13="","",'Staffelzettel 4x100m'!$G13) | H18: =IF('Staffelzettel 4x100m'!$G14="","",'Staffelzettel 4x100m'!$G14) | I18: =IF('Staffelzettel 4x100m'!$G15="","",'Staffelzettel 4x100m'!$G15)
A20: 4x100m | B20: ='Staffelzettel 4x100m'!$F$28 -> Jungen | C20: =$B$2 | D20: =IF('Staffelzettel 4x100m'!$G$28="","",'Staffelzettel 4x100m'!$G$28) -> 2012 u. jünger | E20: =IF(F20="","",'Staffelzettel 4x100m'!H$23) | F20: =IF('Staffelzettel 4x100m'!$G31="","",'Staffelzettel 4x100m'!$G31) | G20: =IF('Staffelzettel 4x100m'!$G32="","",'Staffelzettel 4x100m'!$G32) | H20: =IF('Staffelzettel 4x100m'!$G33="","",'Staffelzettel 4x100m'!$G33) | I20: =IF('Staffelzettel 4x100m'!$G34="","",'Staffelzettel 4x100m'!$G34)
A22: 4x100m | B22: ='Staffelzettel 4x100m'!$F$47 -> Jungen | C22: =$B$2 | D22: =IF('Staffelzettel 4x100m'!$G$28="","",'Staffelzettel 4x100m'!$G$28) -> 2012 u. jünger | E22: =IF(F22="","",'Staffelzettel 4x100m'!H$42) | F22: =IF('Staffelzettel 4x100m'!$G50="","",'Staffelzettel 4x100m'!$G50) | G22: =IF('Staffelzettel 4x100m'!$G51="","",'Staffelzettel 4x100m'!$G51) | H22: =IF('Staffelzettel 4x100m'!$G52="","",'Staffelzettel 4x100m'!$G52) | I22: =IF('Staffelzettel 4x100m'!$G53="","",'Staffelzettel 4x100m'!$G53)
A24: 4x100m | B24: ='Staffelzettel 4x100m'!$J$9 -> Mädchen | C24: =$B$2 | D24: =IF('Staffelzettel 4x100m'!$K$9="","",'Staffelzettel 4x100m'!$K$9) -> 2010 u. jünger | E24: =IF(F24="","",'Staffelzettel 4x100m'!L$4) | F24: =IF('Staffelzettel 4x100m'!K12="","",'Staffelzettel 4x100m'!K12) | G24: =IF('Staffelzettel 4x100m'!K13="","",'Staffelzettel 4x100m'!K13) | H24: =IF('Staffelzettel 4x100m'!K14="","",'Staffelzettel 4x100m'!K14) | I24: =IF('Staffelzettel 4x100m'!K15="","",'Staffelzettel 4x100m'!K15)
A26: 4x100m | B26: ='Staffelzettel 4x100m'!$J$28 -> Mädchen | C26: =$B$2 | D26: =IF('Staffelzettel 4x100m'!$K$28="","",'Staffelzettel 4x100m'!$K$28) -> 2010 u. jünger | E26: =IF(F26="","",'Staffelzettel 4x100m'!L$23) | F26: =IF('Staffelzettel 4x100m'!K31="","",'Staffelzettel 4x100m'!K31) | G26: =IF('Staffelzettel 4x100m'!K32="","",'Staffelzettel 4x100m'!K32) | H26: =IF('Staffelzettel 4x100m'!K33="","",'Staffelzettel 4x100m'!K33) | I26: =IF('Staffelzettel 4x100m'!K34="","",'Staffelzettel 4x100m'!K34)
A28: 4x100m | B28: ='Staffelzettel 4x100m'!$J47 -> Mädchen | C28: =$B$2 | D28: =IF('Staffelzettel 4x100m'!$K$28="","",'Staffelzettel 4x100m'!$K$28) -> 2010 u. jünger | E28: =IF(F28="","",'Staffelzettel 4x100m'!L$42) | F28: =IF('Staffelzettel 4x100m'!K50="","",'Staffelzettel 4x100m'!K50) | G28: =IF('Staffelzettel 4x100m'!K51="","",'Staffelzettel 4x100m'!K51) | H28: =IF('Staffelzettel 4x100m'!K52="","",'Staffelzettel 4x100m'!K52) | I28: =IF('Staffelzettel 4x100m'!K53="","",'Staffelzettel 4x100m'!K53)
A30: 4x100m | B30: ='Staffelzettel 4x100m'!$N$9 -> Jungen | C30: =$B$2 | D30: =IF('Staffelzettel 4x100m'!$O$9="","",'Staffelzettel 4x100m'!$O$9) -> 2010 u. jünger | E30: =IF(F30="","",'Staffelzettel 4x100m'!P$4) | F30: =IF('Staffelzettel 4x100m'!$O12="","",'Staffelzettel 4x100m'!$O12) | G30: =IF('Staffelzettel 4x100m'!$O13="","",'Staffelzettel 4x100m'!$O13) | H30: =IF('Staffelzettel 4x100m'!$O14="","",'Staffelzettel 4x100m'!$O14) | I30: =IF('Staffelzettel 4x100m'!$O15="","",'Staffelzettel 4x100m'!$O15)
A32: 4x100m | B32: ='Staffelzettel 4x100m'!$N$28 -> Jungen | C32: =$B$2 | D32: =IF('Staffelzettel 4x100m'!$O$28="","",'Staffelzettel 4x100m'!$O$28) -> 2010 u. jünger | E32: =IF(F32="","",'Staffelzettel 4x100m'!P$23) | F32: =IF('Staffelzettel 4x100m'!$O31="","",'Staffelzettel 4x100m'!$O31) | G32: =IF('Staffelzettel 4x100m'!$O32="","",'Staffelzettel 4x100m'!$O32) | H32: =IF('Staffelzettel 4x100m'!$O33="","",'Staffelzettel 4x100m'!$O33) | I32: =IF('Staffelzettel 4x100m'!$O34="","",'Staffelzettel 4x100m'!$O34)
A34: 4x100m | B34: ='Staffelzettel 4x100m'!$N$47 -> Jungen | C34: =$B$2 | D34: =IF('Staffelzettel 4x100m'!$O$28="","",'Staffelzettel 4x100m'!$O$28) -> 2010 u. jünger | E34: =IF(F34="","",'Staffelzettel 4x100m'!P$42) | F34: =IF('Staffelzettel 4x100m'!$O50="","",'Staffelzettel 4x100m'!$O50) | G34: =IF('Staffelzettel 4x100m'!$O51="","",'Staffelzettel 4x100m'!$O51) | H34: =IF('Staffelzettel 4x100m'!$O52="","",'Staffelzettel 4x100m'!$O52) | I34: =IF('Staffelzettel 4x100m'!$O53="","",'Staffelzettel 4x100m'!$O53)
A36: 4x100m | B36: ='Staffelzettel 4x100m'!$R$9 -> Mädchen | C36: =$B$2 | D36: =IF('Staffelzettel 4x100m'!$S$9="","",'Staffelzettel 4x100m'!$S$9) -> 2008 u. jünger | E36: =IF(F36="","",'Staffelzettel 4x100m'!T$4) | F36: =IF('Staffelzettel 4x100m'!S12="","",'Staffelzettel 4x100m'!S12) | G36: =IF('Staffelzettel 4x100m'!S13="","",'Staffelzettel 4x100m'!S13) | H36: =IF('Staffelzettel 4x100m'!S14="","",'Staffelzettel 4x100m'!S14) | I36: =IF('Staffelzettel 4x100m'!S15="","",'Staffelzettel 4x100m'!S15)
A38: 4x100m | B38: ='Staffelzettel 4x100m'!$R$28 -> Mädchen | C38: =$B$2 | D38: =IF('Staffelzettel 4x100m'!$S$28="","",'Staffelzettel 4x100m'!$S$28) -> 2008 u. jünger | E38: =IF(F38="","",'Staffelzettel 4x100m'!T$23) | F38: =IF('Staffelzettel 4x100m'!S31="","",'Staffelzettel 4x100m'!S31) | G38: =IF('Staffelzettel 4x100m'!S32="","",'Staffelzettel 4x100m'!S32) | H38: =IF('Staffelzettel 4x100m'!S33="","",'Staffelzettel 4x100m'!S33) | I38: =IF('Staffelzettel 4x100m'!S34="","",'Staffelzettel 4x100m'!S34)
A40: 4x100m | B40: ='Staffelzettel 4x100m'!$R47 -> Mädchen | C40: =$B$2 | D40: =IF('Staffelzettel 4x100m'!$S$28="","",'Staffelzettel 4x100m'!$S$28) -> 2008 u. jünger | E40: =IF(F40="","",'Staffelzettel 4x100m'!T$42) | F40: =IF('Staffelzettel 4x100m'!S50="","",'Staffelzettel 4x100m'!S50) | G40: =IF('Staffelzettel 4x100m'!S51="","",'Staffelzettel 4x100m'!S51) | H40: =IF('Staffelzettel 4x100m'!S52="","",'Staffelzettel 4x100m'!S52) | I40: =IF('Staffelzettel 4x100m'!S53="","",'Staffelzettel 4x100m'!S53)
A42: 4x100m | B42: ='Staffelzettel 4x100m'!$V$9 -> Jungen | C42: =$B$2 | D42: =IF('Staffelzettel 4x100m'!$W$9="","",'Staffelzettel 4x100m'!$W$9) -> 2008 u. jünger | E42: =IF(F42="","",'Staffelzettel 4x100m'!X$4) | F42: =IF('Staffelzettel 4x100m'!$W12="","",'Staffelzettel 4x100m'!$W12) | G42: =IF('Staffelzettel 4x100m'!$W13="","",'Staffelzettel 4x100m'!$W13) | H42: =IF('Staffelzettel 4x100m'!$W14="","",'Staffelzettel 4x100m'!$W14) | I42: =IF('Staffelzettel 4x100m'!$W15="","",'Staffelzettel 4x100m'!$W15)
A44: 4x100m | B44: ='Staffelzettel 4x100m'!$V$28 -> Jungen | C44: =$B$2 | D44: =IF('Staffelzettel 4x100m'!$W$28="","",'Staffelzettel 4x100m'!$W$28) -> 2008 u. jünger | E44: =IF(F44="","",'Staffelzettel 4x100m'!X$23) | F44: =IF('Staffelzettel 4x100m'!$W31="","",'Staffelzettel 4x100m'!$W31) | G44: =IF('Staffelzettel 4x100m'!$W32="","",'Staffelzettel 4x100m'!$W32) | H44: =IF('Staffelzettel 4x100m'!$W33="","",'Staffelzettel 4x100m'!$W33) | I44: =IF('Staffelzettel 4x100m'!$W34="","",'Staffelzettel 4x100m'!$W34)
A46: 4x100m | B46: ='Staffelzettel 4x100m'!$V$47 -> Jungen | C46: =$B$2 | D46: =IF('Staffelzettel 4x100m'!$W$28="","",'Staffelzettel 4x100m'!$W$28) -> 2008 u. jünger | E46: =IF(F46="","",'Staffelzettel 4x100m'!X$42) | F46: =IF('Staffelzettel 4x100m'!$W50="","",'Staffelzettel 4x100m'!$W50) | G46: =IF('Staffelzettel 4x100m'!$W51="","",'Staffelzettel 4x100m'!$W51) | H46: =IF('Staffelzettel 4x100m'!$W52="","",'Staffelzettel 4x100m'!$W52) | I46: =IF('Staffelzettel 4x100m'!$W53="","",'Staffelzettel 4x100m'!$W53)
A48: 3x800m | B48: ='Staffelzettel 3x800m'!$B$9 -> Mädchen | C48: =$B$2 | D48: =IF('Staffelzettel 3x800m'!$C$9="","",'Staffelzettel 3x800m'!$C$9) -> 2012 u. jünger | E48: =IF(F48="","",'Staffelzettel 3x800m'!D$4) | F48: =IF('Staffelzettel 3x800m'!$C12="","",'Staffelzettel 3x800m'!$C12) | G48: =IF('Staffelzettel 3x800m'!$C13="","",'Staffelzettel 3x800m'!$C13) | H48: =IF('Staffelzettel 3x800m'!$C14="","",'Staffelzettel 3x800m'!$C14)
A50: 3x800m | B50: ='Staffelzettel 3x800m'!$B$27 -> Mädchen | C50: =$B$2 | D50: =IF('Staffelzettel 3x800m'!$C$27="","",'Staffelzettel 3x800m'!$C$27) -> 2012 u. jünger | E50: =IF(F50="","",'Staffelzettel 3x800m'!D$22) | F50: =IF('Staffelzettel 3x800m'!$C30="","",'Staffelzettel 3x800m'!$C30) | G50: =IF('Staffelzettel 3x800m'!$C31="","",'Staffelzettel 3x800m'!$C31) | H50: =IF('Staffelzettel 3x800m'!$C32="","",'Staffelzettel 3x800m'!$C32)
A52: 3x800m | B52: ='Staffelzettel 3x800m'!$B45 -> Mädchen | C52: =$B$2 | D52: =IF('Staffelzettel 3x800m'!$C$45="","",'Staffelzettel 3x800m'!$C$45) -> 2012 u. jünger | E52: =IF(F52="","",'Staffelzettel 3x800m'!D$40) | F52: =IF('Staffelzettel 3x800m'!$C48="","",'Staffelzettel 3x800m'!$C48) | G52: =IF('Staffelzettel 3x800m'!$C49="","",'Staffelzettel 3x800m'!$C49) | H52: =IF('Staffelzettel 3x800m'!$C50="","",'Staffelzettel 3x800m'!$C50)
A54: 3x800m | B54: ='Staffelzettel 3x800m'!$F$9 -> Jungen | C54: =$B$2 | D54: =IF('Staffelzettel 3x800m'!$G$9="","",'Staffelzettel 3x800m'!$G$9) -> 2012 u. jünger | E54: =IF(F54="","",'Staffelzettel 3x800m'!H$4) | F54: =IF('Staffelzettel 3x800m'!$G12="","",'Staffelzettel 3x800m'!$G12) | G54: =IF('Staffelzettel 3x800m'!$G13="","",'Staffelzettel 3x800m'!$G13) | H54: =IF('Staffelzettel 3x800m'!$G14="","",'Staffelzettel 3x800m'!$G14)
A56: 3x800m | B56: ='Staffelzettel 3x800m'!$F$27 -> Jungen | C56: =$B$2 | D56: =IF('Staffelzettel 3x800m'!$G$27="","",'Staffelzettel 3x800m'!$G$27) -> 2012 u. jünger | E56: =IF(F56="","",'Staffelzettel 3x800m'!H$22) | F56: =IF('Staffelzettel 3x800m'!$G30="","",'Staffelzettel 3x800m'!$G30) | G56: =IF('Staffelzettel 3x800m'!$G31="","",'Staffelzettel 3x800m'!$G31) | H56: =IF('Staffelzettel 3x800m'!$G32="","",'Staffelzettel 3x800m'!$G32)
A58: 3x800m | B58: ='Staffelzettel 3x800m'!$F$45 -> Jungen | C58: =$B$2 | D58: =IF('Staffelzettel 3x800m'!$G$45="","",'Staffelzettel 3x800m'!$G$45) -> 2012 u. jünger | E58: =IF(F58="","",'Staffelzettel 3x800m'!H$40) | F58: =IF('Staffelzettel 3x800m'!$G48="","",'Staffelzettel 3x800m'!$G48) | G58: =IF('Staffelzettel 3x800m'!$G49="","",'Staffelzettel 3x800m'!$G49) | H58: =IF('Staffelzettel 3x800m'!$G50="","",'Staffelzettel 3x800m'!$G50)
A60: 3x800m | B60: ='Staffelzettel 3x800m'!$J$9 -> Mädchen | C60: =$B$2 | D60: =IF('Staffelzettel 3x800m'!$K$9="","",'Staffelzettel 3x800m'!$K$9) -> 2010 u. jünger | E60: =IF(F60="","",'Staffelzettel 3x800m'!L$4) | F60: =IF('Staffelzettel 3x800m'!K12="","",'Staffelzettel 3x800m'!K12) | G60: =IF('Staffelzettel 3x800m'!K13="","",'Staffelzettel 3x800m'!K13) | H60: =IF('Staffelzettel 3x800m'!K14="","",'Staffelzettel 3x800m'!K14)
A62: 3x800m | B62: ='Staffelzettel 3x800m'!$J$27 -> Mädchen | C62: =$B$2 | D62: =IF('Staffelzettel 3x800m'!$K$27="","",'Staffelzettel 3x800m'!$K$27) -> 2010 u. jünger | E62: =IF(F62="","",'Staffelzettel 3x800m'!L$22) | F62: =IF('Staffelzettel 3x800m'!K30="","",'Staffelzettel 3x800m'!K30) | G62: =IF('Staffelzettel 3x800m'!K31="","",'Staffelzettel 3x800m'!K31) | H62: =IF('Staffelzettel 3x800m'!K32="","",'Staffelzettel 3x800m'!K32)
A64: 3x800m | B64: ='Staffelzettel 3x800m'!$J45 -> Mädchen | C64: =$B$2 | D64: =IF('Staffelzettel 3x800m'!$K$45="","",'Staffelzettel 3x800m'!$K$45) -> 2010 u. jünger | E64: =IF(F64="","",'Staffelzettel 3x800m'!L$40) | F64: =IF('Staffelzettel 3x800m'!K48="","",'Staffelzettel 3x800m'!K48) | G64: =IF('Staffelzettel 3x800m'!K49="","",'Staffelzettel 3x800m'!K49) | H64: =IF('Staffelzettel 3x800m'!K50="","",'Staffelzettel 3x800m'!K50)
A66: 3x800m | B66: ='Staffelzettel 3x800m'!$N$9 -> Jungen | C66: =$B$2 | D66: =IF('Staffelzettel 3x800m'!$O$9="","",'Staffelzettel 3x800m'!$O$9) -> 2010 u. jünger | E66: =IF(F66="","",'Staffelzettel 3x800m'!P$4) | F66: =IF('Staffelzettel 3x800m'!$O12="","",'Staffelzettel 3x800m'!$O12) | G66: =IF('Staffelzettel 3x800m'!$O13="","",'Staffelzettel 3x800m'!$O13) | H66: =IF('Staffelzettel 3x800m'!$O14="","",'Staffelzettel 3x800m'!$O14)
A68: 3x800m | B68: ='Staffelzettel 3x800m'!$N$27 -> Jungen | C68: =$B$2 | D68: =IF('Staffelzettel 3x800m'!$O$27="","",'Staffelzettel 3x800m'!$O$27) -> 2010 u. jünger | E68: =IF(F68="","",'Staffelzettel 3x800m'!P$22) | F68: =IF('Staffelzettel 3x800m'!$O30="","",'Staffelzettel 3x800m'!$O30) | G68: =IF('Staffelzettel 3x800m'!$O31="","",'Staffelzettel 3x800m'!$O31) | H68: =IF('Staffelzettel 3x800m'!$O32="","",'Staffelzettel 3x800m'!$O32)
A70: 3x800m | B70: ='Staffelzettel 3x800m'!$N$45 -> Jungen | C70: =$B$2 | D70: =IF('Staffelzettel 3x800m'!$O$45="","",'Staffelzettel 3x800m'!$O$45) -> 2010 u. jünger | E70: =IF(F70="","",'Staffelzettel 3x800m'!P$40) | F70: =IF('Staffelzettel 3x800m'!$O48="","",'Staffelzettel 3x800m'!$O48) | G70: =IF('Staffelzettel 3x800m'!$O49="","",'Staffelzettel 3x800m'!$O49) | H70: =IF('Staffelzettel 3x800m'!$O50="","",'Staffelzettel 3x800m'!$O50)
A72: 3x800m | B72: ='Staffelzettel 3x800m'!$R$9 -> Mädchen | C72: =$B$2 | D72: =IF('Staffelzettel 3x800m'!$S$9="","",'Staffelzettel 3x800m'!$S$9) -> 2008 u. jünger | E72: =IF(F72="","",'Staffelzettel 3x800m'!T$4) | F72: =IF('Staffelzettel 3x800m'!S12="","",'Staffelzettel 3x800m'!S12) | G72: =IF('Staffelzettel 3x800m'!S13="","",'Staffelzettel 3x800m'!S13) | H72: =IF('Staffelzettel 3x800m'!S14="","",'Staffelzettel 3x800m'!S14)
A74: 3x800m | B74: ='Staffelzettel 3x800m'!$R$27 -> Mädchen | C74: =$B$2 | D74: =IF('Staffelzettel 3x800m'!$S$27="","",'Staffelzettel 3x800m'!$S$27) -> 2008 u. jünger | E74: =IF(F74="","",'Staffelzettel 3x800m'!T$22) | F74: =IF('Staffelzettel 3x800m'!S30="","",'Staffelzettel 3x800m'!S30) | G74: =IF('Staffelzettel 3x800m'!S31="","",'Staffelzettel 3x800m'!S31) | H74: =IF('Staffelzettel 3x800m'!S32="","",'Staffelzettel 3x800m'!S32)
A76: 4x100m | B76: ='Staffelzettel 3x800m'!$R45 -> Mädchen | C76: =$B$2 | D76: =IF('Staffelzettel 3x800m'!$S$45="","",'Staffelzettel 3x800m'!$S$45) -> 2008 u. jünger | E76: =IF(F76="","",'Staffelzettel 3x800m'!T$40) | F76: =IF('Staffelzettel 3x800m'!S48="","",'Staffelzettel 3x800m'!S48) | G76: =IF('Staffelzettel 3x800m'!S49="","",'Staffelzettel 3x800m'!S49) | H76: =IF('Staffelzettel 3x800m'!S50="","",'Staffelzettel 3x800m'!S50)
A78: 3x800m | B78: ='Staffelzettel 3x800m'!$V$9 -> Jungen | C78: =$B$2 | D78: =IF('Staffelzettel 3x800m'!$W$9="","",'Staffelzettel 3x800m'!$W$9) -> 2008 u. jünger | E78: =IF(F78="","",'Staffelzettel 3x800m'!X$4) | F78: =IF('Staffelzettel 3x800m'!$W12="","",'Staffelzettel 3x800m'!$W12) | G78: =IF('Staffelzettel 3x800m'!$W13="","",'Staffelzettel 3x800m'!$W13) | H78: =IF('Staffelzettel 3x800m'!$W14="","",'Staffelzettel 3x800m'!$W14)
A80: 3x800m | B80: ='Staffelzettel 3x800m'!$V$27 -> Jungen | C80: =$B$2 | D80: =IF('Staffelzettel 3x800m'!$W$27="","",'Staffelzettel 3x800m'!$W$27) -> 2008 u. jünger | E80: =IF(F80="","",'Staffelzettel 3x800m'!X$22) | F80: =IF('Staffelzettel 3x800m'!$W30="","",'Staffelzettel 3x800m'!$W30) | G80: =IF('Staffelzettel 3x800m'!$W31="","",'Staffelzettel 3x800m'!$W31) | H80: =IF('Staffelzettel 3x800m'!$W32="","",'Staffelzettel 3x800m'!$W32)
A82: 3x800m | B82: ='Staffelzettel 3x800m'!$V$45 -> Jungen | C82: =$B$2 | D82: =IF('Staffelzettel 3x800m'!$W$45="","",'Staffelzettel 3x800m'!$W$45) -> 2008 u. jünger | E82: =IF(F82="","",'Staffelzettel 3x800m'!X$40) | F82: =IF('Staffelzettel 3x800m'!$W48="","",'Staffelzettel 3x800m'!$W48) | G82: =IF('Staffelzettel 3x800m'!$W49="","",'Staffelzettel 3x800m'!$W49) | H82: =IF('Staffelzettel 3x800m'!$W50="","",'Staffelzettel 3x800m'!$W50)
